BEGIN:VCALENDAR
VERSION:2.0
PRODID:-//Second Breakfast Pies - ECPv6.15.20//NONSGML v1.0//EN
CALSCALE:GREGORIAN
METHOD:PUBLISH
X-ORIGINAL-URL:https://secondbreakfastpies.com
X-WR-CALDESC:Events for Second Breakfast Pies
REFRESH-INTERVAL;VALUE=DURATION:PT1H
X-Robots-Tag:noindex
X-PUBLISHED-TTL:PT1H
BEGIN:VTIMEZONE
TZID:America/Los_Angeles
BEGIN:DAYLIGHT
TZOFFSETFROM:-0800
TZOFFSETTO:-0700
TZNAME:PDT
DTSTART:20240310T100000
END:DAYLIGHT
BEGIN:STANDARD
TZOFFSETFROM:-0700
TZOFFSETTO:-0800
TZNAME:PST
DTSTART:20241103T090000
END:STANDARD
BEGIN:DAYLIGHT
TZOFFSETFROM:-0800
TZOFFSETTO:-0700
TZNAME:PDT
DTSTART:20250309T100000
END:DAYLIGHT
BEGIN:STANDARD
TZOFFSETFROM:-0700
TZOFFSETTO:-0800
TZNAME:PST
DTSTART:20251102T090000
END:STANDARD
BEGIN:DAYLIGHT
TZOFFSETFROM:-0800
TZOFFSETTO:-0700
TZNAME:PDT
DTSTART:20260308T100000
END:DAYLIGHT
BEGIN:STANDARD
TZOFFSETFROM:-0700
TZOFFSETTO:-0800
TZNAME:PST
DTSTART:20261101T090000
END:STANDARD
END:VTIMEZONE
BEGIN:VEVENT
DTSTART;TZID=America/Los_Angeles:20251224T100000
DTEND;TZID=America/Los_Angeles:20251224T160000
DTSTAMP:20260422T195012
CREATED:20241112T230550Z
LAST-MODIFIED:20251115T201618Z
UID:1085-1766570400-1766592000@secondbreakfastpies.com
SUMMARY:Holiday Market BOTH 325 2025 Dec. 24
DESCRIPTION:Come see Second Breakfast at the Eugene Holiday Market! Stop by\, grab a treat or a whole pie\, experience handcrafted gifts by local artisans\, International Cuisine and Live Music!!  \n **Free Admission / Free Parking***
URL:https://secondbreakfastpies.com/event/holiday-market-2025-dec-24/
END:VEVENT
BEGIN:VEVENT
DTSTART;TZID=America/Los_Angeles:20251223T100000
DTEND;TZID=America/Los_Angeles:20251223T180000
DTSTAMP:20260422T195012
CREATED:20241112T230448Z
LAST-MODIFIED:20251115T201634Z
UID:1083-1766484000-1766512800@secondbreakfastpies.com
SUMMARY:Holiday Market BOOTH 325 2025 Dec. 23
DESCRIPTION:Come see Second Breakfast at the Eugene Holiday Market! Stop by\, grab a treat or a whole pie\, experience handcrafted gifts by local artisans\, International Cuisine and Live Music!!  \n **Free Admission / Free Parking***
URL:https://secondbreakfastpies.com/event/holiday-market-2025-dec-23/
END:VEVENT
BEGIN:VEVENT
DTSTART;TZID=America/Los_Angeles:20251220T100000
DTEND;TZID=America/Los_Angeles:20251221T180000
DTSTAMP:20260422T195012
CREATED:20251110T152635Z
LAST-MODIFIED:20251115T201645Z
UID:1578-1766224800-1766340000@secondbreakfastpies.com
SUMMARY:Holiday Market BOOTH 325 2025 Dec. 20 & 21
DESCRIPTION:Come see Second Breakfast at the Eugene Holiday Market! Stop by\, grab a treat or a whole pie\, experience handcrafted gifts by local artisans\, International Cuisine and Live Music!!  \n **Free Admission / Free Parking***
URL:https://secondbreakfastpies.com/event/holiday-market-2025-dec-20-21/
END:VEVENT
BEGIN:VEVENT
DTSTART;TZID=America/Los_Angeles:20251213T100000
DTEND;TZID=America/Los_Angeles:20251214T180000
DTSTAMP:20260422T195012
CREATED:20241112T230111Z
LAST-MODIFIED:20251115T201655Z
UID:1077-1765620000-1765735200@secondbreakfastpies.com
SUMMARY:Holiday Market BOOTH 325 2025 Dec. 13 & 14
DESCRIPTION:Come see Second Breakfast at the Eugene Holiday Market! Stop by\, grab a treat or a whole pie\, experience handcrafted gifts by local artisans\, International Cuisine and Live Music!!  \n **Free Admission / Free Parking***
URL:https://secondbreakfastpies.com/event/holiday-market-2025-dec-13-14/
END:VEVENT
BEGIN:VEVENT
DTSTART;TZID=America/Los_Angeles:20251206T100000
DTEND;TZID=America/Los_Angeles:20251207T180000
DTSTAMP:20260422T195012
CREATED:20241112T225900Z
LAST-MODIFIED:20251115T201703Z
UID:1075-1765015200-1765130400@secondbreakfastpies.com
SUMMARY:Holiday Market BOOTH 325 2025 Dec. 6 & 7
DESCRIPTION:Come see Second Breakfast at the Eugene Holiday Market! Stop by\, grab a treat or a whole pie\, experience handcrafted gifts by local artisans\, International Cuisine and Live Music!!  \n **Free Admission / Free Parking***
URL:https://secondbreakfastpies.com/event/holiday-market-2025-dec-6-7/
END:VEVENT
BEGIN:VEVENT
DTSTART;TZID=America/Los_Angeles:20251004T080000
DTEND;TZID=America/Los_Angeles:20251005T170000
DTSTAMP:20260422T195012
CREATED:20250710T003048Z
LAST-MODIFIED:20250710T003048Z
UID:1530-1759564800-1759683600@secondbreakfastpies.com
SUMMARY:MAC Scottish Festival
DESCRIPTION:MAC Scottish Festival\nOct 4th and 5th\, 2025\n\nYamhill County Fairgrounds\,\nMcMinnville\, Oregon USA\n \n\nMcMinnville Scottish Festival .. We’re putting the “Mac” back in McMinnville\nMcMinnville has grown to be an internationally recognized city in the heart of Willamette Valley known best for its small town main street\, and its place in the rich Willamette Valley wine industry\, early UFO sightings\, and the resting place of the Hercules (Howard Hughes’ Spruce Goose). \nWith all this attention it seems few have pondered why it bears the name of McMinnville? Did anyone of importance in city history have that name? Are there Scottish or Irish roots? \nAs it turns out\, no one in the city’s history was named McMinnville. The city’s founder William T. Newby (1820–1884)\, an early immigrant on the Oregon Trail\, named the city after his hometown McMinnville\, Tennessee. He must have cared for his home quite a bit to establish a city across the country with the same name. \nMcMinnville does indeed have Scottish roots; however\, McMinnville\, Tennessee was named after Governor Joseph McMinn (1758-1824). His grandfather\, Robert McMinn (1690-1757) emigrated from his home in Perth\, Scotland\, to make a home in Lancaster County\, Pennsylvania. \nBy importing the name of his hometown\, William Newby intentionally\, or unintentionally\, brought a bit of Scotland to our city\, McMinnville. \nThe Celtic Heritage Alliance builds on that Scottish connection and brings the “Mac” back in McMinnville with the McMinnville Scottish Festival! Join us October 4th and 5th\, 2025 at the Yamhill County Fairgrounds. Take advantage of our PRE-SALE DISCOUNTS before they sell out! \n**PARKING AT THE EVENT WILL BE $5.00 PER VEHICLE EACH DAY\, PAYABLE BY CASH ONLY**
URL:https://secondbreakfastpies.com/event/mac-scottish-festival/
END:VEVENT
BEGIN:VEVENT
DTSTART;TZID=America/Los_Angeles:20250823T080000
DTEND;TZID=America/Los_Angeles:20250824T170000
DTSTAMP:20260422T195012
CREATED:20250710T000922Z
LAST-MODIFIED:20250710T003302Z
UID:1513-1755936000-1756054800@secondbreakfastpies.com
SUMMARY:2025 DCCS HIGHLAND GAMES and CLAN GATHERING
DESCRIPTION:2025 DCCS HIGHLAND GAMES and CLAN GATHERING\n  \nSaturday\, Aug. 23 and Sunday\, Aug. 24\, 2025\n9:00 AM to 5:00 PM both days.\n \nWe will be serving our Scottish Festival Menu & BRUNCH!\nLocation: The Event Center and bottom field of the beautiful Melrose Vineyards\, on Melqua Road\, Roseburg (Melrose)\, Oregon.\nMusical performers will be The AML Trio\, and the Eugene Highlanders bagpipe band. \nThere will be fantastic food & vendor booths\, the clan tents\, and the Oregon State Heavy Athletics Championship taking place all weekend! \nDue to the nature of progression\, a set schedule for the athletics is not possible for each athletic event. They begin at 9:00 AM and will continue until finished. Caber is always the last event per class. \nThe Sheaf Toss will take place in the clan village throughout the day\, both days\, for the clans\, vendors\, & shoppers to enjoy. \nThe athletics competition will have the usual 2 events going at same time (i.e. weight over bar and stone toss\, etc.) all day\, both days. \nThere will be a spectator area to view the athletics field with up close viewing of all ongoing competitions. \nTickets will be available at admissions only:\n$15.00 Adults\, $12.00 seniors\, and $10.00 kids (5-12) kids under 5 free\nFamily pass $40.00 (2 adults & 3 children\, ages 5-12)\nNO outside alcohol will be permitted on the grounds of this Highland
URL:https://secondbreakfastpies.com/event/2025-dccs-highland-games-and-clan-gathering/
LOCATION:Melrose Vineyards\, 885 Melqua Rd\, Roseburg\, OR\, 97471\, United States
END:VEVENT
BEGIN:VEVENT
DTSTART;TZID=America/Los_Angeles:20250816T090000
DTEND;TZID=America/Los_Angeles:20250817T160000
DTSTAMP:20260422T195012
CREATED:20250709T235717Z
LAST-MODIFIED:20250710T003321Z
UID:1504-1755334800-1755446400@secondbreakfastpies.com
SUMMARY:ALBANY SCOTTISH FESTIVAL
DESCRIPTION:ALBANY SCOTTISH FESTIVAL\n \nWe will be serving our Scottish Festival Menu & BRUNCH!\nSaturday **August 16-17\, 2025**\n9:00am-6:00pm Sat & 9:00am-4:00pm Sun 
URL:https://secondbreakfastpies.com/event/albany-scottish-festival/
LOCATION:Timber Linn Park\, 900 Prince RD SE\, Albany\, OR\, 97322\, United States
END:VEVENT
BEGIN:VEVENT
DTSTART;VALUE=DATE:20250801
DTEND;VALUE=DATE:20250804
DTSTAMP:20260422T195012
CREATED:20250710T000339Z
LAST-MODIFIED:20250710T000339Z
UID:1509-1754006400-1754265599@secondbreakfastpies.com
SUMMARY:Homer Davenport Community Festival
DESCRIPTION:Celebrating the Life and Times of Oregon’s First Media Superstar.\nSilverton\, Oregon • August 1st – 3rd\, 2025\n\nAbout Homer Days\nThe Homer Days volunteers are committed to putting on a world class Home-Town Summer Festival. We have everything you would expect\, including a Parade\, Arts & Crafts\, Food Court\, Live Music and Homer’s own Brew Fest. \nIn celebrating the life and times of our favorite son—and Oregon’s first media super star—Political Cartoonist Homer Davenport\, we also have several features not usually seen in a summer festival: An International Cartoon Contest featuring entries from around the globe; a strong focus on our heritage and history; and of course the Davenport Races!
URL:https://secondbreakfastpies.com/event/homer-davenport-community-festival/
LOCATION:Coolidge McClaine Park\, 300 Coolidge St.\, Silverton\, OR\, 97381\, United States
END:VEVENT
BEGIN:VEVENT
DTSTART;TZID=America/Los_Angeles:20250710T160000
DTEND;TZID=America/Los_Angeles:20250712T230000
DTSTAMP:20260422T195012
CREATED:20250709T233727Z
LAST-MODIFIED:20250709T234029Z
UID:1499-1752163200-1752361200@secondbreakfastpies.com
SUMMARY:2025 Philomath Frolic & Rodeo
DESCRIPTION:2025 Philomath Frolic & Rodeo\n \n4:00-11:00 pm Thursday and Friday\n3:00-11:00 pm Saturday
URL:https://secondbreakfastpies.com/event/1499/
LOCATION:Skirvin Park 479 S 13th St\, Philomath\, OR 97370\, 479 S 13th St.\, Philomath\, OR\, 97370
END:VEVENT
BEGIN:VEVENT
DTSTART;TZID=America/Los_Angeles:20250709T080000
DTEND;TZID=America/Los_Angeles:20250709T170000
DTSTAMP:20260422T195012
CREATED:20250710T001902Z
LAST-MODIFIED:20250710T001939Z
UID:1518-1752048000-1752080400@secondbreakfastpies.com
SUMMARY:Kindle Northwest
DESCRIPTION:Kindle north west\n\nSeptember 4-7\, 2025\n\n\n\n\nFire dancers\, prop spinners\, circus artists\, magic makers\, and people who love to flow: join us in an unforgettable location for 4 days and 3 nights of workshops\, fire dancing\, and community building. \nLet’s return to our misty magical home away from home.
URL:https://secondbreakfastpies.com/event/kindle-northwest/
LOCATION:Camp Mariweather\, 17500 Cape Lookout Rd\, Cloverdale\, OR\, 97112\, United States
END:VEVENT
END:VCALENDAR